BEGIN:VCALENDAR
VERSION:2.0
PRODID:-//Warendorfer Wassersportverein e.V. - ECPv6.15.13//NONSGML v1.0//EN
CALSCALE:GREGORIAN
METHOD:PUBLISH
X-ORIGINAL-URL:https://wassersport-warendorf.de
X-WR-CALDESC:Veranstaltungen für Warendorfer Wassersportverein e.V.
REFRESH-INTERVAL;VALUE=DURATION:PT1H
X-Robots-Tag:noindex
X-PUBLISHED-TTL:PT1H
BEGIN:VTIMEZONE
TZID:Europe/Berlin
BEGIN:DAYLIGHT
TZOFFSETFROM:+0100
TZOFFSETTO:+0200
TZNAME:CEST
DTSTART:20210328T010000
END:DAYLIGHT
BEGIN:STANDARD
TZOFFSETFROM:+0200
TZOFFSETTO:+0100
TZNAME:CET
DTSTART:20211031T010000
END:STANDARD
BEGIN:DAYLIGHT
TZOFFSETFROM:+0100
TZOFFSETTO:+0200
TZNAME:CEST
DTSTART:20220327T010000
END:DAYLIGHT
BEGIN:STANDARD
TZOFFSETFROM:+0200
TZOFFSETTO:+0100
TZNAME:CET
DTSTART:20221030T010000
END:STANDARD
BEGIN:DAYLIGHT
TZOFFSETFROM:+0100
TZOFFSETTO:+0200
TZNAME:CEST
DTSTART:20230326T010000
END:DAYLIGHT
BEGIN:STANDARD
TZOFFSETFROM:+0200
TZOFFSETTO:+0100
TZNAME:CET
DTSTART:20231029T010000
END:STANDARD
END:VTIMEZONE
BEGIN:VEVENT
DTSTART;TZID=Europe/Berlin:20220621T183000
DTEND;TZID=Europe/Berlin:20220621T210000
DTSTAMP:20260421T121422
CREATED:20190123T155650Z
LAST-MODIFIED:20220124T211621Z
UID:8100-1655836200-1655845200@wassersport-warendorf.de
SUMMARY:Kurz­einweisung zum Erwerb des Fachkunde­nachweises (FKN)
DESCRIPTION:FÜR SEENOTSIGNALMITTEL NACH DEM SPRENGSTOFFRECHT\nDer Warendorfer Wassersportverein e.V. bietet allen interessierten Schiffsführerinnen und Schiffsführern eine praktische Kurzeinweisung zum Erwerb des Fachkundenachweises an. \nDie Prüfung umfasst den Umgang mit Seenotsignalmitteln und die zu beachtenden Rechtsvorschriften des Sprengstoffrechts. \nIm theoretischen Teil ist ein Fragebogen mit 15 Fragen aus dem 60 Fragen umfassenden Fragen- und Antwortenkatalog zu beantworten. Im praktischen Teil ist die sichere Handhabung von Seenotsignalmitteln nachzuweisen. \nWeitere Informationen entnehmen Sie bitte dem aktuellen Programmheft\, online im ePaper.
URL:https://wassersport-warendorf.de/event/kurzeinweisung-zum-erwerb-des-fachkundenachweises-fkn-2/
LOCATION:Bootshaus am Emssee\, Sassenberger Straße 26a\, Warendorf\, 48231
CATEGORIES:Ausbildung
ATTACH;FMTTYPE=image/png:https://wassersport-warendorf.de/wp-content/uploads/titelbild_fachkundenachweis.png
END:VEVENT
END:VCALENDAR