BEGIN:VCALENDAR
VERSION:2.0
PRODID:-//Warendorfer Wassersportverein e.V. - ECPv6.15.13//NONSGML v1.0//EN
CALSCALE:GREGORIAN
METHOD:PUBLISH
X-ORIGINAL-URL:https://wassersport-warendorf.de
X-WR-CALDESC:Veranstaltungen für Warendorfer Wassersportverein e.V.
REFRESH-INTERVAL;VALUE=DURATION:PT1H
X-Robots-Tag:noindex
X-PUBLISHED-TTL:PT1H
BEGIN:VTIMEZONE
TZID:Europe/Berlin
BEGIN:DAYLIGHT
TZOFFSETFROM:+0100
TZOFFSETTO:+0200
TZNAME:CEST
DTSTART:20220327T010000
END:DAYLIGHT
BEGIN:STANDARD
TZOFFSETFROM:+0200
TZOFFSETTO:+0100
TZNAME:CET
DTSTART:20221030T010000
END:STANDARD
BEGIN:DAYLIGHT
TZOFFSETFROM:+0100
TZOFFSETTO:+0200
TZNAME:CEST
DTSTART:20230326T010000
END:DAYLIGHT
BEGIN:STANDARD
TZOFFSETFROM:+0200
TZOFFSETTO:+0100
TZNAME:CET
DTSTART:20231029T010000
END:STANDARD
BEGIN:DAYLIGHT
TZOFFSETFROM:+0100
TZOFFSETTO:+0200
TZNAME:CEST
DTSTART:20240331T010000
END:DAYLIGHT
BEGIN:STANDARD
TZOFFSETFROM:+0200
TZOFFSETTO:+0100
TZNAME:CET
DTSTART:20241027T010000
END:STANDARD
END:VTIMEZONE
BEGIN:VEVENT
DTSTART;TZID=Europe/Berlin:20231028T090000
DTEND;TZID=Europe/Berlin:20231028T170000
DTSTAMP:20260420T173304
CREATED:20230313T193451Z
LAST-MODIFIED:20230313T193452Z
UID:16680-1698483600-1698512400@wassersport-warendorf.de
SUMMARY:Ausslippen - Arbeitseinsatz
DESCRIPTION:Zum Saisonende werden die Boote aus dem Wasser geholt und genauso wie Haus und Hof winterfest gemacht. Der Termin richtet sich an die Vereinsmitglieder und dient zur Ableistung der jährlichen Arbeitsstunden. Für einen Mittagsimbiss wird gesorgt.
URL:https://wassersport-warendorf.de/event/ausslippen-arbeitseinsatz-2023/
LOCATION:Bootshaus am Emssee\, Sassenberger Straße 26a\, Warendorf\, 48231
CATEGORIES:Verein
ATTACH;FMTTYPE=image/jpeg:https://wassersport-warendorf.de/wp-content/uploads/IMG_0163-scaled.jpg
END:VEVENT
END:VCALENDAR