BEGIN:VCALENDAR
VERSION:2.0
PRODID:-//Warendorfer Wassersportverein e.V. - ECPv6.15.13//NONSGML v1.0//EN
CALSCALE:GREGORIAN
METHOD:PUBLISH
X-WR-CALNAME:Warendorfer Wassersportverein e.V.
X-ORIGINAL-URL:https://wassersport-warendorf.de
X-WR-CALDESC:Veranstaltungen für Warendorfer Wassersportverein e.V.
REFRESH-INTERVAL;VALUE=DURATION:PT1H
X-Robots-Tag:noindex
X-PUBLISHED-TTL:PT1H
BEGIN:VTIMEZONE
TZID:Europe/Berlin
BEGIN:DAYLIGHT
TZOFFSETFROM:+0100
TZOFFSETTO:+0200
TZNAME:CEST
DTSTART:20250330T010000
END:DAYLIGHT
BEGIN:STANDARD
TZOFFSETFROM:+0200
TZOFFSETTO:+0100
TZNAME:CET
DTSTART:20251026T010000
END:STANDARD
BEGIN:DAYLIGHT
TZOFFSETFROM:+0100
TZOFFSETTO:+0200
TZNAME:CEST
DTSTART:20260329T010000
END:DAYLIGHT
BEGIN:STANDARD
TZOFFSETFROM:+0200
TZOFFSETTO:+0100
TZNAME:CET
DTSTART:20261025T010000
END:STANDARD
BEGIN:DAYLIGHT
TZOFFSETFROM:+0100
TZOFFSETTO:+0200
TZNAME:CEST
DTSTART:20270328T010000
END:DAYLIGHT
BEGIN:STANDARD
TZOFFSETFROM:+0200
TZOFFSETTO:+0100
TZNAME:CET
DTSTART:20271031T010000
END:STANDARD
END:VTIMEZONE
BEGIN:VEVENT
DTSTART;TZID=Europe/Berlin:20260607T140000
DTEND;TZID=Europe/Berlin:20260607T180000
DTSTAMP:20260422T125159
CREATED:20260102T151545Z
LAST-MODIFIED:20260102T151547Z
UID:58998-1780840800-1780855200@wassersport-warendorf.de
SUMMARY:Vereinscafé am Bootshaus
DESCRIPTION:Zwischen Mai und Ende September öffnen wir immer sonntags von 14 – 18 Uhr die Türen unseres Vereinscafés. \n\n\n\nBei leckerer Torte und frisch gebackener Waffel können alle Besucher*innen beim Blick über den Emssee entspannen. Selbstverständlich gibt es auch eine feine Auswahl an warmen und kalten Getränken. \n\n\n\nDas Café-Team freut sich auf euren Besuch.
URL:https://wassersport-warendorf.de/event/vereinscafe-am-bootshaus-28/
LOCATION:Bootshaus am Emssee\, Sassenberger Straße 26a\, Warendorf\, 48231
CATEGORIES:Verein
ATTACH;FMTTYPE=image/jpeg:https://wassersport-warendorf.de/wp-content/uploads/vereinscafe_tiel-1.jpg
END:VEVENT
BEGIN:VEVENT
DTSTART;TZID=Europe/Berlin:20260614T120000
DTEND;TZID=Europe/Berlin:20260614T180000
DTSTAMP:20260422T125159
CREATED:20260102T143755Z
LAST-MODIFIED:20260102T143758Z
UID:58970-1781438400-1781460000@wassersport-warendorf.de
SUMMARY:Tag der offenen Tür - Was(s)erlebentag
DESCRIPTION:Gemeinsam mit der DLRG und dem Schiffsmodellclub veranstalten wir auch in diesem Jahr unseren Tag der offenen Tür am Bootshaus. Frei nach dem Motto „Was(s)erleben“\, können alt und jung an diesem Tag einiges an und auf dem Wasser erleben. Alle Interessierten können unterschiedliche Wassersportarten am Emssee in Warendorf kostenlos ausprobieren und unsere Vereine besser kennen lernen. \nDie Mitglieder des WWV sorgen für eine gute Verpflegung mit Waffeln\, Kuchen sowie Leckerem vom Grill und verschiedenen Getränken. \nBootstouren über den See\, Schnuppersegeln\, Rudern und Stand-Up-Paddling (SUP) sind nur einige der Möglichkeiten\, die an diesen Tag geboten werden. Für die Wasseraktivitäten sollten idealerweise Bade- oder Sportbekleidung mitgebracht werden. Rettungswesten für Kinder und Jugendliche sind ausreichend vorhanden. \nDer Eintritt ist frei.
URL:https://wassersport-warendorf.de/event/tag-der-offenen-tuer-wasserlebentag/
LOCATION:Bootshaus am Emssee\, Sassenberger Straße 26a\, Warendorf\, 48231
CATEGORIES:Verein
ATTACH;FMTTYPE=image/jpeg:https://wassersport-warendorf.de/wp-content/uploads/Foto-TdoT-e1734882938697.jpg
END:VEVENT
BEGIN:VEVENT
DTSTART;TZID=Europe/Berlin:20260614T140000
DTEND;TZID=Europe/Berlin:20260614T180000
DTSTAMP:20260422T125200
CREATED:20260102T151624Z
LAST-MODIFIED:20260102T151859Z
UID:59000-1781445600-1781460000@wassersport-warendorf.de
SUMMARY:Vereinscafé am Bootshaus
DESCRIPTION:Zwischen Mai und Ende September öffnen wir immer sonntags von 14 – 18 Uhr die Türen unseres Vereinscafés. \n\n\n\nBei leckerer Torte und frisch gebackener Waffel können alle Besucher*innen beim Blick über den Emssee entspannen. Selbstverständlich gibt es auch eine feine Auswahl an warmen und kalten Getränken. \n\n\n\nDas Café-Team freut sich auf euren Besuch.
URL:https://wassersport-warendorf.de/event/vereinscafe-am-bootshaus-29/
LOCATION:Bootshaus am Emssee\, Sassenberger Straße 26a\, Warendorf\, 48231
CATEGORIES:Verein
ATTACH;FMTTYPE=image/jpeg:https://wassersport-warendorf.de/wp-content/uploads/vereinscafe_tiel-1.jpg
END:VEVENT
BEGIN:VEVENT
DTSTART;TZID=Europe/Berlin:20260619T193000
DTEND;TZID=Europe/Berlin:20260619T230000
DTSTAMP:20260422T125200
CREATED:20260102T141659Z
LAST-MODIFIED:20260102T141702Z
UID:58958-1781897400-1781910000@wassersport-warendorf.de
SUMMARY:Klönabend
DESCRIPTION:Regelmäßig\, meistens einmal im Monat\, laden wir alle Mitglieder zu einem gemütlichen Klönabend in unser schönes Bootshaus ein. Auch Gäste\, die den Verein kennenlernen wollen\, sind herzlich willkommen. In lockerer Runde werden Bilder der letzten Törns gezeigt\, der nächste Törn geplant oder einfach bei einem kühlen Getränk geklönt. \nEine Anmeldung ist nicht erforderlich. \nBei schönem Wetter findet der Klönabend auch schonmal im Hof oder auf der Terrasse statt.
URL:https://wassersport-warendorf.de/event/kloenabend-15/
LOCATION:Bootshaus am Emssee\, Sassenberger Straße 26a\, Warendorf\, 48231
CATEGORIES:Verein
ATTACH;FMTTYPE=image/jpeg:https://wassersport-warendorf.de/wp-content/uploads/Kloenabend2_2022-edited.jpg
END:VEVENT
BEGIN:VEVENT
DTSTART;TZID=Europe/Berlin:20260621T140000
DTEND;TZID=Europe/Berlin:20260621T180000
DTSTAMP:20260422T125200
CREATED:20260102T151702Z
LAST-MODIFIED:20260102T151704Z
UID:59002-1782050400-1782064800@wassersport-warendorf.de
SUMMARY:Vereinscafé am Bootshaus
DESCRIPTION:Zwischen Mai und Ende September öffnen wir immer sonntags von 14 – 18 Uhr die Türen unseres Vereinscafés. \n\n\n\nBei leckerer Torte und frisch gebackener Waffel können alle Besucher*innen beim Blick über den Emssee entspannen. Selbstverständlich gibt es auch eine feine Auswahl an warmen und kalten Getränken. \n\n\n\nDas Café-Team freut sich auf euren Besuch.
URL:https://wassersport-warendorf.de/event/vereinscafe-am-bootshaus-30/
LOCATION:Bootshaus am Emssee\, Sassenberger Straße 26a\, Warendorf\, 48231
CATEGORIES:Verein
ATTACH;FMTTYPE=image/jpeg:https://wassersport-warendorf.de/wp-content/uploads/vereinscafe_tiel-1.jpg
END:VEVENT
BEGIN:VEVENT
DTSTART;TZID=Europe/Berlin:20260623T183000
DTEND;TZID=Europe/Berlin:20260623T210000
DTSTAMP:20260422T125200
CREATED:20260118T120235Z
LAST-MODIFIED:20260126T201934Z
UID:59096-1782239400-1782248400@wassersport-warendorf.de
SUMMARY:Kurz­einweisung zum Erwerb des Fachkunde­nachweises (FKN)
DESCRIPTION:FÜR SEENOTSIGNALMITTEL NACH DEM SPRENGSTOFFRECHT\nAm Dienstag\, den 23. Juni 2026 findet die praktische Kurzeinweisung Erwerb des Fachkundenachweises statt. \nWeitere Infos und Kurstermine erhältst du hier: Fachkundenachweis
URL:https://wassersport-warendorf.de/event/kurzeinweisung-zum-erwerb-des-fachkundenachweises-fkn/
LOCATION:Bootshaus am Emssee\, Sassenberger Straße 26a\, Warendorf\, 48231
CATEGORIES:Ausbildung
ATTACH;FMTTYPE=image/png:https://wassersport-warendorf.de/wp-content/uploads/titelbild_fachkundenachweis.png
END:VEVENT
BEGIN:VEVENT
DTSTART;TZID=Europe/Berlin:20260628T140000
DTEND;TZID=Europe/Berlin:20260628T180000
DTSTAMP:20260422T125200
CREATED:20260102T151741Z
LAST-MODIFIED:20260102T151743Z
UID:59004-1782655200-1782669600@wassersport-warendorf.de
SUMMARY:Vereinscafé am Bootshaus
DESCRIPTION:Zwischen Mai und Ende September öffnen wir immer sonntags von 14 – 18 Uhr die Türen unseres Vereinscafés. \n\n\n\nBei leckerer Torte und frisch gebackener Waffel können alle Besucher*innen beim Blick über den Emssee entspannen. Selbstverständlich gibt es auch eine feine Auswahl an warmen und kalten Getränken. \n\n\n\nDas Café-Team freut sich auf euren Besuch.
URL:https://wassersport-warendorf.de/event/vereinscafe-am-bootshaus-31/
LOCATION:Bootshaus am Emssee\, Sassenberger Straße 26a\, Warendorf\, 48231
CATEGORIES:Verein
ATTACH;FMTTYPE=image/jpeg:https://wassersport-warendorf.de/wp-content/uploads/vereinscafe_tiel-1.jpg
END:VEVENT
END:VCALENDAR